BEGIN:VCALENDAR
VERSION:2.0
PRODID:-//Elev.5900 - ECPv6.15.20//NONSGML v1.0//EN
CALSCALE:GREGORIAN
METHOD:PUBLISH
X-ORIGINAL-URL:https://www.elev5900.xyz
X-WR-CALDESC:Events for Elev.5900
REFRESH-INTERVAL;VALUE=DURATION:PT1H
X-Robots-Tag:noindex
X-PUBLISHED-TTL:PT1H
BEGIN:VTIMEZONE
TZID:America/Denver
BEGIN:DAYLIGHT
TZOFFSETFROM:-0700
TZOFFSETTO:-0600
TZNAME:MDT
DTSTART:20250309T090000
END:DAYLIGHT
BEGIN:STANDARD
TZOFFSETFROM:-0600
TZOFFSETTO:-0700
TZNAME:MST
DTSTART:20251102T080000
END:STANDARD
BEGIN:DAYLIGHT
TZOFFSETFROM:-0700
TZOFFSETTO:-0600
TZNAME:MDT
DTSTART:20260308T090000
END:DAYLIGHT
BEGIN:STANDARD
TZOFFSETFROM:-0600
TZOFFSETTO:-0700
TZNAME:MST
DTSTART:20261101T080000
END:STANDARD
BEGIN:DAYLIGHT
TZOFFSETFROM:-0700
TZOFFSETTO:-0600
TZNAME:MDT
DTSTART:20270314T090000
END:DAYLIGHT
BEGIN:STANDARD
TZOFFSETFROM:-0600
TZOFFSETTO:-0700
TZNAME:MST
DTSTART:20271107T080000
END:STANDARD
END:VTIMEZONE
BEGIN:VEVENT
DTSTART;TZID=America/Denver:20260424T090000
DTEND;TZID=America/Denver:20260424T110000
DTSTAMP:20260424T053804
CREATED:20260323T175033Z
LAST-MODIFIED:20260421T080747Z
UID:10021352-1777021200-1777028400@www.elev5900.xyz
SUMMARY:Arbor Day Tree Planting — Philip S. Miller Park
DESCRIPTION:In Castle Rock\, we love our trees! As part of the Town’s commitment to being a Tree City USA\, the POST Partners Volunteer Program hosts annual volunteer tree planting opportunities at neighbordhood parks and area green belts. Volunteering is a great way to celebrate the many benefits trees bring to our community – from cleaner air and water to cooler streets and healthier neighborhoods. https://www.crgov.com/calendar.aspx?EID=10779 \n\n\n	Related
URL:https://www.elev5900.xyz/event/arbor-day-tree-planting-philip-s-miller-park/
LOCATION:Philip S. Miller Park – 1375 West Plum Creek Parkway  Castle Rock CO 80109
END:VEVENT
BEGIN:VEVENT
DTSTART;TZID=America/Denver:20260804T170000
DTEND;TZID=America/Denver:20260804T200000
DTSTAMP:20260424T053804
CREATED:20260407T012842Z
LAST-MODIFIED:20260421T100916Z
UID:10021394-1785862800-1785873600@www.elev5900.xyz
SUMMARY:National Night Out 2026
DESCRIPTION:National Night Out was created to help foster positive relationships between police departments and the residents they serve. Traditionally\, this nationwide event consists of neighborhoods hosting officers. In Castle Rock\, we want to throw the party and showcase what makes the Castle Rock Police Department unique! https://www.crgov.com/calendar.aspx?EID=10797 \n\n\n	Related
URL:https://www.elev5900.xyz/event/national-night-out-2026/
LOCATION:Philip S. Miller Park – 1375 West Plum Creek Parkway  Castle Rock CO 80109
END:VEVENT
BEGIN:VEVENT
DTSTART;TZID=America/Denver:20261003T060000
DTEND;TZID=America/Denver:20261003T153000
DTSTAMP:20260424T053804
CREATED:20260302T134711Z
LAST-MODIFIED:20260421T110441Z
UID:10021303-1791007200-1791041400@www.elev5900.xyz
SUMMARY:Castle Rock Trail Festival and liveBIG Family Adventure Run
DESCRIPTION:Challenge yourself on Castle Rock’s vast ridgeline trail system. This epic athletic event has something for everyone — from ultra-distance runners to families with children ages 5 to 12. https://www.crgov.com/calendar.aspx?EID=10743 \n\n\n	Related
URL:https://www.elev5900.xyz/event/castle-rock-trail-festival-and-livebig-family-adventure-run-4/
LOCATION:Philip S. Miller Park – 1375 West Plum Creek Parkway  Castle Rock CO 80109
END:VEVENT
END:VCALENDAR