BEGIN:VCALENDAR
VERSION:2.0
PRODID:-//Elev.5900 - ECPv6.15.20//NONSGML v1.0//EN
CALSCALE:GREGORIAN
METHOD:PUBLISH
X-WR-CALNAME:Elev.5900
X-ORIGINAL-URL:https://www.elev5900.xyz
X-WR-CALDESC:Events for Elev.5900
REFRESH-INTERVAL;VALUE=DURATION:PT1H
X-Robots-Tag:noindex
X-PUBLISHED-TTL:PT1H
BEGIN:VTIMEZONE
TZID:America/Denver
BEGIN:DAYLIGHT
TZOFFSETFROM:-0700
TZOFFSETTO:-0600
TZNAME:MDT
DTSTART:20220313T090000
END:DAYLIGHT
BEGIN:STANDARD
TZOFFSETFROM:-0600
TZOFFSETTO:-0700
TZNAME:MST
DTSTART:20221106T080000
END:STANDARD
BEGIN:DAYLIGHT
TZOFFSETFROM:-0700
TZOFFSETTO:-0600
TZNAME:MDT
DTSTART:20230312T090000
END:DAYLIGHT
BEGIN:STANDARD
TZOFFSETFROM:-0600
TZOFFSETTO:-0700
TZNAME:MST
DTSTART:20231105T080000
END:STANDARD
BEGIN:DAYLIGHT
TZOFFSETFROM:-0700
TZOFFSETTO:-0600
TZNAME:MDT
DTSTART:20240310T090000
END:DAYLIGHT
BEGIN:STANDARD
TZOFFSETFROM:-0600
TZOFFSETTO:-0700
TZNAME:MST
DTSTART:20241103T080000
END:STANDARD
BEGIN:DAYLIGHT
TZOFFSETFROM:-0700
TZOFFSETTO:-0600
TZNAME:MDT
DTSTART:20250309T090000
END:DAYLIGHT
BEGIN:STANDARD
TZOFFSETFROM:-0600
TZOFFSETTO:-0700
TZNAME:MST
DTSTART:20251102T080000
END:STANDARD
BEGIN:DAYLIGHT
TZOFFSETFROM:-0700
TZOFFSETTO:-0600
TZNAME:MDT
DTSTART:20260308T090000
END:DAYLIGHT
BEGIN:STANDARD
TZOFFSETFROM:-0600
TZOFFSETTO:-0700
TZNAME:MST
DTSTART:20261101T080000
END:STANDARD
BEGIN:DAYLIGHT
TZOFFSETFROM:-0700
TZOFFSETTO:-0600
TZNAME:MDT
DTSTART:20270314T090000
END:DAYLIGHT
BEGIN:STANDARD
TZOFFSETFROM:-0600
TZOFFSETTO:-0700
TZNAME:MST
DTSTART:20271107T080000
END:STANDARD
END:VTIMEZONE
BEGIN:VEVENT
DTSTART;TZID=America/Denver:20260414T160000
DTEND;TZID=America/Denver:20260414T180000
DTSTAMP:20260424T053530
CREATED:20260330T210051Z
LAST-MODIFIED:20260414T024150Z
UID:10021361-1776182400-1776189600@www.elev5900.xyz
SUMMARY:America 250 - Colorado 150 time capsule video-recording session
DESCRIPTION:https://www.crgov.com/calendar.aspx?EID=10791 \n\n\n	Related
URL:https://www.elev5900.xyz/event/america-250-colorado-150-time-capsule-video-recording-session-3/
LOCATION:Cantril School – 312 Cantril St.  Castle Rock CO 80104
END:VEVENT
BEGIN:VEVENT
DTSTART;TZID=America/Denver:20260401T160000
DTEND;TZID=America/Denver:20260401T180000
DTSTAMP:20260424T053530
CREATED:20260330T205717Z
LAST-MODIFIED:20260330T205717Z
UID:10021360-1775059200-1775066400@www.elev5900.xyz
SUMMARY:America 250 - Colorado 150 time capsule video-recording session
DESCRIPTION:https://www.crgov.com/calendar.aspx?EID=10790 \n\n\n	Related
URL:https://www.elev5900.xyz/event/america-250-colorado-150-time-capsule-video-recording-session/
LOCATION:Cantril School – 312 Cantril St.  Castle Rock CO 80104
END:VEVENT
BEGIN:VEVENT
DTSTART;TZID=America/Denver:20260210T180000
DTEND;TZID=America/Denver:20260210T190000
DTSTAMP:20260424T053530
CREATED:20260209T111655Z
LAST-MODIFIED:20260209T111657Z
UID:10021263-1770746400-1770750000@www.elev5900.xyz
SUMMARY:Art and Culture Grant Program information session
DESCRIPTION:https://www.crgov.com/calendar.aspx?EID=10702 \n\n\n	Related
URL:https://www.elev5900.xyz/event/art-and-culture-grant-program-information-session/
LOCATION:Cantril School – 312 Cantril St.  Castle Rock CO 80104
END:VEVENT
BEGIN:VEVENT
DTSTART;TZID=America/Denver:20250930T180000
DTEND;TZID=America/Denver:20250930T190000
DTSTAMP:20260424T053530
CREATED:20250726T202049Z
LAST-MODIFIED:20250928T082409Z
UID:10020970-1759255200-1759258800@www.elev5900.xyz
SUMMARY:2025 State of the Town
DESCRIPTION:Interested in learning what’s happening this year with key public safety\, parks and recreation\, roadwork\, water and development projects\, and what’s ahead for 2026 and beyond? Join Mayor Jason Gray for the annual State of the Town address. https://www.crgov.com/calendar.aspx?EID=10344 \n\n\n	Related
URL:https://www.elev5900.xyz/event/2025-state-of-the-town/
LOCATION:Cantril School – 312 Cantril St.  Castle Rock CO 80104
END:VEVENT
BEGIN:VEVENT
DTSTART;TZID=America/Denver:20250826T160000
DTEND;TZID=America/Denver:20250826T180000
DTSTAMP:20260424T053530
CREATED:20250726T183150Z
LAST-MODIFIED:20250824T032557Z
UID:10020965-1756224000-1756231200@www.elev5900.xyz
SUMMARY:District 4 open house with Councilmember Mark Davis
DESCRIPTION:Are you a Castle Rock resident living in central Castle Rock or Downtown? Join your District 4 Councilmember Mark Davis to learn what’s happening in Town. The open house runs from 4 to 6 p.m. Tuesday\, Aug. 26\, at Cantril School\, 312 Cantril St.\n https://www.crgov.com/calendar.aspx?EID=10346 \n\n\n	Related
URL:https://www.elev5900.xyz/event/district-4-open-house-with-councilmember-mark-davis/
LOCATION:Cantril School – 312 Cantril St.  Castle Rock CO 80104
END:VEVENT
BEGIN:VEVENT
DTSTART;TZID=America/Denver:20250821T180000
DTEND;TZID=America/Denver:20250821T193000
DTSTAMP:20260424T053530
CREATED:20250809T223115Z
LAST-MODIFIED:20250817T010149Z
UID:10020984-1755799200-1755804600@www.elev5900.xyz
SUMMARY:Positive Coaching Alliance Workshop
DESCRIPTION:This free\, hands-on coaching workshop is presented by Castle Rock Parks and Recreation in partnership with the Denver Broncos and the Positve Coaching Alliance. Titled “Developing Competitors and Mental Wellness through Positive Coaching\,” this workshop is designed to equip coaches with practical tools to build trust\, foster skill development and create a positive sports culture. https://www.crgov.com/calendar.aspx?EID=10336 \n\n\n	Related
URL:https://www.elev5900.xyz/event/positive-coaching-alliance-workshop/
LOCATION:Cantril School – 312 Cantril St.  Castle Rock CO 80104
END:VEVENT
BEGIN:VEVENT
DTSTART;TZID=America/Denver:20250721T160000
DTEND;TZID=America/Denver:20250721T180000
DTSTAMP:20260424T053530
CREATED:20250628T025946Z
LAST-MODIFIED:20250719T111442Z
UID:10020936-1753113600-1753120800@www.elev5900.xyz
SUMMARY:2026 Budget open house with a side of pizza
DESCRIPTION:Save the date and we’ll save a slice of pizza! 🍕  \nThe Town’s 2026 budget at the open house is 4 to 6 p.m. on Monday\, July 21. https://www.crgov.com/calendar.aspx?EID=10316 \n\n\n	Related
URL:https://www.elev5900.xyz/event/2026-budget-open-house-with-a-side-of-pizza/
LOCATION:Cantril School – 312 Cantril St.  Castle Rock CO 80104
END:VEVENT
BEGIN:VEVENT
DTSTART;TZID=America/Denver:20250325T163000
DTEND;TZID=America/Denver:20250325T180000
DTSTAMP:20260424T053530
CREATED:20250203T142928Z
LAST-MODIFIED:20250319T020723Z
UID:10020620-1742920200-1742925600@www.elev5900.xyz
SUMMARY:Pavement Maintenance Program open house
DESCRIPTION:https://www.crgov.com/calendar.aspx?EID=10001 \n\n\n	Related
URL:https://www.elev5900.xyz/event/pavement-maintenance-program-open-house/
LOCATION:Cantril School – 312 Cantril St.  Castle Rock CO 80104
END:VEVENT
BEGIN:VEVENT
DTSTART;TZID=America/Denver:20250311T163000
DTEND;TZID=America/Denver:20250311T180000
DTSTAMP:20260424T053530
CREATED:20250225T141430Z
LAST-MODIFIED:20250305T005801Z
UID:10020639-1741710600-1741716000@www.elev5900.xyz
SUMMARY:Lost Canyon Ranch Open Space - master plan open house
DESCRIPTION:https://www.crgov.com/calendar.aspx?EID=10017 \n\n\n	Related
URL:https://www.elev5900.xyz/event/lost-canyon-ranch-open-space-master-plan-open-house/
LOCATION:Cantril School – 312 Cantril St.  Castle Rock CO 80104
END:VEVENT
BEGIN:VEVENT
DTSTART;TZID=America/Denver:20241206T000000
DTEND;TZID=America/Denver:20241207T000000
DTSTAMP:20260424T053530
CREATED:20241125T132955Z
LAST-MODIFIED:20241202T134432Z
UID:10020367-1733443200-1733529600@www.elev5900.xyz
SUMMARY:Holiday Bazaar
DESCRIPTION:Holiday event with goodies\, baked goods\, crafts\, books\, puzzles\, balloons\, grandma’s attic and more! https://www.crgov.com/calendar.aspx?EID=9788 \n\n\n	Related
URL:https://www.elev5900.xyz/event/holiday-bazaar/
LOCATION:Cantril School – 312 Cantril St.  Castle Rock CO 80104
END:VEVENT
BEGIN:VEVENT
DTSTART;TZID=America/Denver:20240813T180000
DTEND;TZID=America/Denver:20240813T193000
DTSTAMP:20260424T053530
CREATED:20240527T100908Z
LAST-MODIFIED:20240812T114534Z
UID:10018751-1723572000-1723577400@www.elev5900.xyz
SUMMARY:2024 State of the Town
DESCRIPTION:https://www.crgov.com/calendar.aspx?EID=9565 \n\n\n	Related
URL:https://www.elev5900.xyz/event/2024-state-of-the-town/
LOCATION:Cantril School – 312 Cantril St.  Castle Rock CO 80104
END:VEVENT
BEGIN:VEVENT
DTSTART;TZID=America/Denver:20230920T160000
DTEND;TZID=America/Denver:20230920T180000
DTSTAMP:20260424T053530
CREATED:20230716T231434Z
LAST-MODIFIED:20230716T231434Z
UID:10011087-1695225600-1695232800@www.elev5900.xyz
SUMMARY:District 4 Open House with Councilmember LaFleur
DESCRIPTION:District 4 Councilmember LaFleur invites you to an informational open house at the Cantril School. https://www.crgov.com/calendar.aspx?EID=9060 \n\n\n	Related
URL:https://www.elev5900.xyz/event/district-4-open-house-with-councilmember-lafleur/
LOCATION:Cantril School – 312 Cantril St.  Castle Rock CO 80104
END:VEVENT
END:VCALENDAR